BEGIN:VCALENDAR
VERSION:2.0
PRODID:-//Morgan County Fair |  Located in Martinsville, IN - ECPv6.15.20//NONSGML v1.0//EN
CALSCALE:GREGORIAN
METHOD:PUBLISH
X-ORIGINAL-URL:https://morgancountyindianafair.org
X-WR-CALDESC:Events for Morgan County Fair |  Located in Martinsville, IN
REFRESH-INTERVAL;VALUE=DURATION:PT1H
X-Robots-Tag:noindex
X-PUBLISHED-TTL:PT1H
BEGIN:VTIMEZONE
TZID:UTC
BEGIN:STANDARD
TZOFFSETFROM:+0000
TZOFFSETTO:+0000
TZNAME:UTC
DTSTART:20250101T000000
END:STANDARD
END:VTIMEZONE
BEGIN:VEVENT
DTSTART;TZID=UTC:20260715T190000
DTEND;TZID=UTC:20260715T213000
DTSTAMP:20260422T222058
CREATED:20230511T142632Z
LAST-MODIFIED:20260315T162732Z
UID:22702-1784142000-1784151000@morgancountyindianafair.org
SUMMARY:ATV Races
DESCRIPTION:Check-in Times: July 2 5-8 PM or July 3 8-11 AMFrom stunning landscapes to abstract masterpieces\, we invite you to submit your finest works of art and compete alongside fellow artists. Let your imagination take flight as you present your thought-provoking compositions\, breathtaking portraits\, awe-inspiring sculptures\, or captivating photographic captures. SUPERINTENDENT – Nancy Maxwell      765-318-0972
URL:https://morgancountyindianafair.org/event/atv-races/
CATEGORIES:Grandstand Events
ATTACH;FMTTYPE=image/jpeg:https://morgancountyindianafair.org/wp-content/uploads/2023/05/ATV.jpg
END:VEVENT
BEGIN:VEVENT
DTSTART;TZID=UTC:20260716T190000
DTEND;TZID=UTC:20260716T213000
DTSTAMP:20260422T222058
CREATED:20230511T142401Z
LAST-MODIFIED:20260315T162653Z
UID:22697-1784228400-1784237400@morgancountyindianafair.org
SUMMARY:DIRT BIKE RACING
DESCRIPTION:Check-in Times: July 2 5-8 PM or July 3 8-11 AMFrom stunning landscapes to abstract masterpieces\, we invite you to submit your finest works of art and compete alongside fellow artists. Let your imagination take flight as you present your thought-provoking compositions\, breathtaking portraits\, awe-inspiring sculptures\, or captivating photographic captures. SUPERINTENDENT – Nancy Maxwell      765-318-0972
URL:https://morgancountyindianafair.org/event/dirt-bike-racing/
CATEGORIES:Grandstand Events
ATTACH;FMTTYPE=image/jpeg:https://morgancountyindianafair.org/wp-content/uploads/2023/05/Dirt-Bike.jpeg
END:VEVENT
BEGIN:VEVENT
DTSTART;TZID=UTC:20260717T190000
DTEND;TZID=UTC:20260717T190000
DTSTAMP:20260422T222058
CREATED:20230429T013958Z
LAST-MODIFIED:20260315T162554Z
UID:22671-1784314800-1784314800@morgancountyindianafair.org
SUMMARY:Demolition Derby
DESCRIPTION:Check-in Times: July 2 5-8 PM or July 3 8-11 AMFrom stunning landscapes to abstract masterpieces\, we invite you to submit your finest works of art and compete alongside fellow artists. Let your imagination take flight as you present your thought-provoking compositions\, breathtaking portraits\, awe-inspiring sculptures\, or captivating photographic captures. SUPERINTENDENT – Nancy Maxwell      765-318-0972
URL:https://morgancountyindianafair.org/event/demolition-derby-2/
CATEGORIES:Grandstand Events
ATTACH;FMTTYPE=image/jpeg:https://morgancountyindianafair.org/wp-content/uploads/2023/04/244660530_4369348839845101_1057948256792101014_n.jpg
END:VEVENT
BEGIN:VEVENT
DTSTART;TZID=UTC:20260718T190000
DTEND;TZID=UTC:20260718T210000
DTSTAMP:20260422T222058
CREATED:20240131T220702Z
LAST-MODIFIED:20260315T162511Z
UID:24937-1784401200-1784408400@morgancountyindianafair.org
SUMMARY:Tuff Truck
DESCRIPTION:Check-in Times: July 2 5-8 PM or July 3 8-11 AMFrom stunning landscapes to abstract masterpieces\, we invite you to submit your finest works of art and compete alongside fellow artists. Let your imagination take flight as you present your thought-provoking compositions\, breathtaking portraits\, awe-inspiring sculptures\, or captivating photographic captures. SUPERINTENDENT – Nancy Maxwell      765-318-0972
URL:https://morgancountyindianafair.org/event/tuff-truck/
CATEGORIES:Grandstand Events
ATTACH;FMTTYPE=image/jpeg:https://morgancountyindianafair.org/wp-content/uploads/2024/01/Tuff-Trucks.jpg
END:VEVENT
BEGIN:VEVENT
DTSTART;TZID=UTC:20260814T110000
DTEND;TZID=UTC:20260816T110000
DTSTAMP:20260422T222058
CREATED:20240304T135103Z
LAST-MODIFIED:20260312T181202Z
UID:25083-1786705200-1786878000@morgancountyindianafair.org
SUMMARY:Open Class Goats
DESCRIPTION:Check-in Times: July 2 5-8 PM or July 3 8-11 AMFrom stunning landscapes to abstract masterpieces\, we invite you to submit your finest works of art and compete alongside fellow artists. Let your imagination take flight as you present your thought-provoking compositions\, breathtaking portraits\, awe-inspiring sculptures\, or captivating photographic captures. SUPERINTENDENT – Nancy Maxwell      765-318-0972
URL:https://morgancountyindianafair.org/event/open-class-goats/
CATEGORIES:Livestock & Crops
ATTACH;FMTTYPE=image/jpeg:https://morgancountyindianafair.org/wp-content/uploads/2024/11/IMG_8379.jpg
END:VEVENT
END:VCALENDAR